BEGIN:VCALENDAR
VERSION:2.0
PRODID:-//Habersatter Reisen - ECPv6.15.20//NONSGML v1.0//EN
CALSCALE:GREGORIAN
METHOD:PUBLISH
X-ORIGINAL-URL:https://habersatter-reisen.com
X-WR-CALDESC:Veranstaltungen für Habersatter Reisen
REFRESH-INTERVAL;VALUE=DURATION:PT1H
X-Robots-Tag:noindex
X-PUBLISHED-TTL:PT1H
BEGIN:VTIMEZONE
TZID:Europe/Vienna
BEGIN:DAYLIGHT
TZOFFSETFROM:+0100
TZOFFSETTO:+0200
TZNAME:CEST
DTSTART:20250330T010000
END:DAYLIGHT
BEGIN:STANDARD
TZOFFSETFROM:+0200
TZOFFSETTO:+0100
TZNAME:CET
DTSTART:20251026T010000
END:STANDARD
BEGIN:DAYLIGHT
TZOFFSETFROM:+0100
TZOFFSETTO:+0200
TZNAME:CEST
DTSTART:20260329T010000
END:DAYLIGHT
BEGIN:STANDARD
TZOFFSETFROM:+0200
TZOFFSETTO:+0100
TZNAME:CET
DTSTART:20261025T010000
END:STANDARD
BEGIN:DAYLIGHT
TZOFFSETFROM:+0100
TZOFFSETTO:+0200
TZNAME:CEST
DTSTART:20270328T010000
END:DAYLIGHT
BEGIN:STANDARD
TZOFFSETFROM:+0200
TZOFFSETTO:+0100
TZNAME:CET
DTSTART:20271031T010000
END:STANDARD
END:VTIMEZONE
BEGIN:VEVENT
DTSTART;TZID=Europe/Vienna:20260329T000000
DTEND;TZID=Europe/Vienna:20260402T000000
DTSTAMP:20260424T155705
CREATED:20251222T100340Z
LAST-MODIFIED:20260102T085908Z
UID:7057-1774742400-1775088000@habersatter-reisen.com
SUMMARY:Toskana-Insel\, Wein & Travertin
DESCRIPTION:Die Toskana ist wohl eine der beliebtesten Regionen in Italien. Neben der größeren\, berühmten Städten findet man in unzähligen kleineren Orten wundervolle Spuren vergangener Herrscher\, Künstler und Völker. Reizvolle Plätze und Gassen und nicht zuletzt die Kulinarik sind immer wieder eine Reise wert. \nProgramm: \nTag 1: Frühmorgens erfolgt die Anreise aus dem Ennstal über die A10 bis in die Gegend Ferrara\, Poggibonsi\, bis Marina di Grosseto. Dort beziehen Sie Ihr Hotel. \nTag 2-4: Ausflüge: Monte Argentario – Porto S. Stefano Schifffahrt auf die Insel Giglio – Abbazia San Antimo – Brunellostraße – Montalcino – Bagno Vignoni – Saturnia (Bademöglichkeit im Schwefelwasser der Travertin Becken) uvm. \nTag 5: Rückreise mit Ankunft im Ennstal um ca. 20:00 Uhr. \n  \nPreis: € 725\,- pro Person; € 160\,- EZZ\n-Busfahrt + alle Gebühren\n-4x Übernachtung mit Halbpension\n-Alle Ausflüge\n-2x deutschsprachige Stadtführungen\n-1x Schifffahrt \n(Extrakosten: anfallende Eintritte\, div. Essen außerhalb HP\, Getränke beim Essen\, alle nicht erwähnten Leistungen)
URL:https://habersatter-reisen.com/reisen/insel-wein-travertin/
END:VEVENT
END:VCALENDAR