BEGIN:VCALENDAR
VERSION:2.0
PRODID:-//Habersatter Reisen - ECPv6.15.20//NONSGML v1.0//EN
CALSCALE:GREGORIAN
METHOD:PUBLISH
X-WR-CALNAME:Habersatter Reisen
X-ORIGINAL-URL:https://habersatter-reisen.com
X-WR-CALDESC:Veranstaltungen für Habersatter Reisen
REFRESH-INTERVAL;VALUE=DURATION:PT1H
X-Robots-Tag:noindex
X-PUBLISHED-TTL:PT1H
BEGIN:VTIMEZONE
TZID:Europe/Vienna
BEGIN:DAYLIGHT
TZOFFSETFROM:+0100
TZOFFSETTO:+0200
TZNAME:CEST
DTSTART:20250330T010000
END:DAYLIGHT
BEGIN:STANDARD
TZOFFSETFROM:+0200
TZOFFSETTO:+0100
TZNAME:CET
DTSTART:20251026T010000
END:STANDARD
BEGIN:DAYLIGHT
TZOFFSETFROM:+0100
TZOFFSETTO:+0200
TZNAME:CEST
DTSTART:20260329T010000
END:DAYLIGHT
BEGIN:STANDARD
TZOFFSETFROM:+0200
TZOFFSETTO:+0100
TZNAME:CET
DTSTART:20261025T010000
END:STANDARD
BEGIN:DAYLIGHT
TZOFFSETFROM:+0100
TZOFFSETTO:+0200
TZNAME:CEST
DTSTART:20270328T010000
END:DAYLIGHT
BEGIN:STANDARD
TZOFFSETFROM:+0200
TZOFFSETTO:+0100
TZNAME:CET
DTSTART:20271031T010000
END:STANDARD
END:VTIMEZONE
BEGIN:VEVENT
DTSTART;VALUE=DATE:20260425
DTEND;VALUE=DATE:20260426
DTSTAMP:20260424T160356
CREATED:20251118T144211Z
LAST-MODIFIED:20260410T060655Z
UID:6921-1777075200-1777161599@habersatter-reisen.com
SUMMARY:Radieschenfest - Hall in Tirol
DESCRIPTION:Ein Erntefest im April – falsche Jahreszeit\, oder? Nein\, das Haller Radieschenfest ist eine große Sache in der Region\, die als größter „Gemüsegarten Österreichs“ gilt. Der kleinen roten Knolle zu Ehren wird ein Umzug abgehalten\, es werden Radieschen-Burger gebraten\, und sogar eine Radieschenprinzessin tritt auf. \nDas Haller Radieschenfest ist ein jährliches Frühlingsfest in der Altstadt von Hall in Tirol\, bei dem die Radieschen-Ernte aus der Region gefeiert wird. Während des Festes gibt es traditionell Musik\, lokale Spezialitäten und natürlich Radieschen. \nProgramm:\n– Anreise nach Hall in Tirol\n– Besuch Haller Radieschenfest\n– Gegen Abend Rückreise ins Ennstal \nPreis: € 69\,- p.P.
URL:https://habersatter-reisen.com/reisen/haller-radieschen-fest/
ATTACH;FMTTYPE=image/jpeg:https://habersatter-reisen.com/wp-content/uploads/2026/03/AdobeStock_40946080_C-Juergen-Wiesler-Radieschen.jpeg
END:VEVENT
END:VCALENDAR