BEGIN:VCALENDAR
VERSION:2.0
PRODID:-//Habersatter Reisen - ECPv6.15.20//NONSGML v1.0//EN
CALSCALE:GREGORIAN
METHOD:PUBLISH
X-ORIGINAL-URL:https://habersatter-reisen.com
X-WR-CALDESC:Veranstaltungen für Habersatter Reisen
REFRESH-INTERVAL;VALUE=DURATION:PT1H
X-Robots-Tag:noindex
X-PUBLISHED-TTL:PT1H
BEGIN:VTIMEZONE
TZID:Europe/Vienna
BEGIN:DAYLIGHT
TZOFFSETFROM:+0100
TZOFFSETTO:+0200
TZNAME:CEST
DTSTART:20250330T010000
END:DAYLIGHT
BEGIN:STANDARD
TZOFFSETFROM:+0200
TZOFFSETTO:+0100
TZNAME:CET
DTSTART:20251026T010000
END:STANDARD
BEGIN:DAYLIGHT
TZOFFSETFROM:+0100
TZOFFSETTO:+0200
TZNAME:CEST
DTSTART:20260329T010000
END:DAYLIGHT
BEGIN:STANDARD
TZOFFSETFROM:+0200
TZOFFSETTO:+0100
TZNAME:CET
DTSTART:20261025T010000
END:STANDARD
BEGIN:DAYLIGHT
TZOFFSETFROM:+0100
TZOFFSETTO:+0200
TZNAME:CEST
DTSTART:20270328T010000
END:DAYLIGHT
BEGIN:STANDARD
TZOFFSETFROM:+0200
TZOFFSETTO:+0100
TZNAME:CET
DTSTART:20271031T010000
END:STANDARD
END:VTIMEZONE
BEGIN:VEVENT
DTSTART;VALUE=DATE:20260721
DTEND;VALUE=DATE:20260801
DTSTAMP:20260424T222613
CREATED:20251219T143329Z
LAST-MODIFIED:20260413T081707Z
UID:7044-1784592000-1785542399@habersatter-reisen.com
SUMMARY:Schottland - Whiskey\, Natur & Loch Ness
DESCRIPTION:790 Inseln\, sanfte Hügel\, liebliche Lochs\, weite Täler\, kleine Dörfer\, mythische Weiten\, bewachsen mit Heidekraut\, beweidet von zahlreichen Schafen und Hochlandrindern. Klare Flüsse voller Fische\, dudelsackpfeifende Männer mit Kilts und 150 Whiskey Brennereien\, Haggis\, Schottische Eier und Tatties – so wird die nördlichste Region der Britischen Inseln beschrieben. Überzeugen Sie sich selbst! Reisen Sie mit in diesen faszinierenden Fleck Europas! \nProgramm: \nTag 1: Frühmorgens erfolgt die Anreise aus dem Ennstal bis in die Gegend Frankfurt/Main zur Zwischennächtigung. \nTag 2: Weiterreise bis Volendam mit Aufenthalt. Fahrt nach Ijmuiden und Einchecken auf die Fähre Richtung Newcastle. \nTag 3: Um ca. 09:00 Uhr verlassen Sie das Schiff. Sie fahren durch die schottischen Borders über Jedburgh – Melrose – Rosslyn Chapel – vorbei an Edinburgh über die Forth Road Bridge bis Dundee. Dort beziehen Sie Ihr Hotel für drei Nächte. \nTag 4: Ausflug: Culross – Edinburgh Stadtspaziergang – Whiskey Heritage \nTag 5: Ausflug entlang der Nordsee: Stonehaven – Dunnottar Castle – St. Andrews – Führung in Queen Mums Kindheitsschloss ‘Glamis Castle’ \nTag 6: Über Perth – Pitlochry – Fort Augustus führt der Weg zu Clansmanns Schiffshafen. Hier ist der Startpunkt einer Schiffstour auf dem Loch Ness. Am Urquhart Castle halten Sie für einen Castle Walk. In Aviemore beziehen Sie Ihr Hotel für drei Nächte. \nTag 7: Entlang des Moray Firth geht es Richtung Wick. Eine deutschsprachige Reiseleitung begleitet Sie ab Inverness über Goldspie\, Dunbeath etc. An der Strecke können Sie Seehunde beobachten\, die am Ufer liegen. Außerdem liegen dort Bohrinseln nah am Ufer\, die für Reparaturen herein gelotst werden. \nTag 8: Heute erwartet Sie ein Ausflug über Fort Williams\, Glenfinnan an den Atlantik mit Aufenthalt in Mallaig. Diese Strecke kann wahlweise auch mit dem Jacobite Steam Train – auf einer der schönsten Eisenbahnstrecken weltweit – zurückgelegt werden. Die Rückreise erfolgt mit dem Bus. (Zugticket kann zugebucht werden.) \nTag 9: Sie starten mit der Rückreise. Über Loch Lomond und Glasgow fahren Sie zur Fähre nach Newcastle. \nTag 10: Heute verlassen Sie die Fähre und fahren weiter zur Zwischennächtigung. \nTag 11: Sie erreichen um ca. 20:00 Uhr das Ennstal. \nPreis: € 1795\,- pro Person; € ?\,- EZZ\n \n-Busfahrt + alle Gebühren\n-Visum\n-8x Übernachtung mit Halbpension\n-2x Fährüberfahrt\n-2x Frühstück und Abendessen am Schiff\n-2x deutschsprachige Reiseleitung\n-1x Schifffahrt Loch Ness\n-1x Whiskey Heritage \n(Extrakosten: div. Mittagessen\, Eintritte\, Aufzahlung Außen-/Einzelkabine\, Zugticket)
URL:https://habersatter-reisen.com/reisen/schottland/
ATTACH;FMTTYPE=image/jpeg:https://habersatter-reisen.com/wp-content/uploads/2025/12/AdobeStock_73868048_C-Zbyszko_-Schottisches-Hochlandrind-Schaf-Schottland-e1776068219602.jpeg
END:VEVENT
END:VCALENDAR