BEGIN:VCALENDAR
VERSION:2.0
PRODID:-//Habersatter Reisen - ECPv6.15.20//NONSGML v1.0//EN
CALSCALE:GREGORIAN
METHOD:PUBLISH
X-WR-CALNAME:Habersatter Reisen
X-ORIGINAL-URL:https://habersatter-reisen.com
X-WR-CALDESC:Veranstaltungen für Habersatter Reisen
REFRESH-INTERVAL;VALUE=DURATION:PT1H
X-Robots-Tag:noindex
X-PUBLISHED-TTL:PT1H
BEGIN:VTIMEZONE
TZID:Europe/Vienna
BEGIN:DAYLIGHT
TZOFFSETFROM:+0100
TZOFFSETTO:+0200
TZNAME:CEST
DTSTART:20250330T010000
END:DAYLIGHT
BEGIN:STANDARD
TZOFFSETFROM:+0200
TZOFFSETTO:+0100
TZNAME:CET
DTSTART:20251026T010000
END:STANDARD
BEGIN:DAYLIGHT
TZOFFSETFROM:+0100
TZOFFSETTO:+0200
TZNAME:CEST
DTSTART:20260329T010000
END:DAYLIGHT
BEGIN:STANDARD
TZOFFSETFROM:+0200
TZOFFSETTO:+0100
TZNAME:CET
DTSTART:20261025T010000
END:STANDARD
BEGIN:DAYLIGHT
TZOFFSETFROM:+0100
TZOFFSETTO:+0200
TZNAME:CEST
DTSTART:20270328T010000
END:DAYLIGHT
BEGIN:STANDARD
TZOFFSETFROM:+0200
TZOFFSETTO:+0100
TZNAME:CET
DTSTART:20271031T010000
END:STANDARD
END:VTIMEZONE
BEGIN:VEVENT
DTSTART;VALUE=DATE:20261101
DTEND;VALUE=DATE:20261109
DTSTAMP:20260425T014206
CREATED:20260102T094705Z
LAST-MODIFIED:20260413T084253Z
UID:7104-1793491200-1794182399@habersatter-reisen.com
SUMMARY:Albanien - das unbekannte Juwel des Balkans
DESCRIPTION:Albanien fasziniert mit einer außergewöhnlichen Vielfalt und gilt noch immer als einer der spannendsten Geheimtipps Europas. Das Land vereint unberührte Naturlandschaften\, jahrtausendealte Geschichte und eine beeindruckende kulturelle Vielfalt mit herzlicher Gastfreundschaft. Zwischen der Adria und dem Ionischen Meer erstrecken sich malerische Küstenabschnitte mit kristallklarem Wasser\, versteckten Buchten und charmanten Badeorten\, während im Landesinneren majestätische Bergland­schaften\, tiefe Täler und ursprüngliche Dörfer zum Entdecken einladen. Historische Städte wie Berat und Gjirokastër\, beide UNESCO-Weltkulturerbe\, erzählen von einer bewegten Vergangenheit und begeistern mit gut erhaltenen Altstädten\, osmani­scher Architektur und verwinkelten Gassen. Gleichzeitig pulsiert in der Hauptstadt Tirana das moderne Leben: lebendige Plätze\, kreative Cafés und farbenfrohe Fassaden spiegeln den Aufbruch und die Dynamik des Landes wider. Abseits der bekannten Reiserouten bietet Albanien authentische Begegnungen\, traditionelle Küche und ein ursprüngliches Reiseerlebnis fernab des Massentourismus. Wer Natur\, Kultur und echte Entdeckungen schätzt\, findet hier ein Land voller Kontraste und überraschender Schönheit. \nTag 1: Früh am Morgen Fahrt vom Ennstal über Kroatien in den Raum Makarska zur Zwischenübernachtung. \nTag 2: Entlang der kroatischen Adriaküste\, vorbei an Dub­rovnik\, reisen wir weiter nach Montenegro. In der malerischen Bucht von Kotor besuchen wir die barocke Stadt Perast. Von hier aus unternehmen wir eine Schifffahrt zur Klosterinsel Maria am Felsen. Anschließend Weiterfahrt nach Kotor\, des­sen venezianisch geprägte Altstadt aufgrund ihrer einzigartigen Lage zwischen Bergen und Meer zum UNESCO-Weltkultur-und Naturerbe zählt. Übernachtung in Budva. \nTag 3: Nach dem Grenzübertritt nach Albanien erreichen wir Shkodra\, eine der ältesten Städte des Landes. Weiter­fahrt nach Kruja\, auch als „Balkon der Adria“ bekannt\, da die Stadt hoch über der Küstenebene thront. Kruja war einst der Stammsitz des Nationalhelden Skanderbeg und beeindruckt mit einer mächtigen Festung sowie einem orientalisch anmu­tenden Basar. Am Abend erreichen wir die Hauptstadt Tirana. \nTag 4: Am Vormittag ausführliche Stadtbesichtigung von Tira­na. Danach führt unsere Reise entlang einer alten Römerstra­ße nach Nordmazedonien zum berühmten Ohrid-See\, einem der ältesten und tiefsten Seen Europas. Der Nachmittag steht zur freien Verfügung am idyllischen Seeufer. \nTag 5: Auf der Rückfahrt nach Albanien besuchen wir das eindrucksvoll gelegene Kloster Sveti Naum. Neben dem Klos­ter erkunden wir bei einer entspannten Ruderbootfahrt die kristallklaren Quellen des Ohrid-Sees. Anschließend Weiter­fahrt nach Korça\, wo wir unser Hotel beziehen. \nTag 6: Wir verlassen die Bergregion Albaniens und fahren Richtung Küste. Unterwegs besichtigen wir Gjirokastër\, die sogenannte „Stadt der Steine“\, mit ihrer imposanten Burganla­ge und dem einzigen Waffenmuseum des Landes. Nach einem kurzen Fotostopp am berühmten Blauen Auge erreichen wir Saranda\, unser Tagesziel. \nTag 7: Am Vormittag Besuch der UNESCO-Weltkulturerbe­stätte Butrint. Auf der idyllisch gelegenen Halbinsel bestaunen wir hervorragend erhaltene antike Bauwerke und kunstvolle Mosaike. Am Nachmittag fahren wir entlang der spektakulä­ren Küstenstraße nordwärts nach Berat\, der „Stadt der tau­send Fenster“. Nach einer kurzen Stadtbesichtigung beziehen wir unser letztes Hotel in Albanien. \nTag 8: Der letzte Tag in Albanien führt uns nach Durrës\, der größten Hafenstadt des Landes. Bei einer Stadtführung be­sichtigen wir unter anderem das größte Amphitheater des Balkans aus dem 2. Jahrhundert n. Chr. Am Nachmittag Ein­schiffung auf die Fähre nach Italien – mit einem letzten Blick auf die albanische Küste. \nTag 9: Ankunft in Ancona und Heimreise\, reich an unver­gesslichen Eindrücken und Erlebnissen. \nLeistungen p.P.:  \n\nBusfahrt\n1x Übernachtung inkl. Frühstück\n6x Übernachtung inkl. Halbpension\nFährüberfahrt Außenkabine inkl. Halbpension\nHalbtagestour Montenegro – Perast bis Kotor\nBootsfahrt\nStadtführung Kotor\n\nEintritte:  \n\nFestung Rozafa in Skhodra\nSkanderberg-Museum & Festung in Kruja\nStadtführung Tirana\nOhrid\nSchifffhart Ohrid See\nSchloss und Waffenmuseum in Gjirokastra ∙ Ruinenstadt Butrint\nRömisches Amphitheater in Durres\nBesichtigung Berat\n\ndeutschsprachige Reiseleitung in Albanie \n€ 1695\,- p.P. HP \n€ 368\,- p.P
URL:https://habersatter-reisen.com/reisen/albanien/
ATTACH;FMTTYPE=image/jpeg:https://habersatter-reisen.com/wp-content/uploads/2026/01/AdobeStock_322180235_C-Comofoto-Ohridsee.jpeg
END:VEVENT
END:VCALENDAR