BEGIN:VCALENDAR
VERSION:2.0
PRODID:-//Habersatter Reisen - ECPv6.15.20//NONSGML v1.0//EN
CALSCALE:GREGORIAN
METHOD:PUBLISH
X-ORIGINAL-URL:https://habersatter-reisen.com
X-WR-CALDESC:Veranstaltungen für Habersatter Reisen
REFRESH-INTERVAL;VALUE=DURATION:PT1H
X-Robots-Tag:noindex
X-PUBLISHED-TTL:PT1H
BEGIN:VTIMEZONE
TZID:Europe/Vienna
BEGIN:DAYLIGHT
TZOFFSETFROM:+0100
TZOFFSETTO:+0200
TZNAME:CEST
DTSTART:20250330T010000
END:DAYLIGHT
BEGIN:STANDARD
TZOFFSETFROM:+0200
TZOFFSETTO:+0100
TZNAME:CET
DTSTART:20251026T010000
END:STANDARD
BEGIN:DAYLIGHT
TZOFFSETFROM:+0100
TZOFFSETTO:+0200
TZNAME:CEST
DTSTART:20260329T010000
END:DAYLIGHT
BEGIN:STANDARD
TZOFFSETFROM:+0200
TZOFFSETTO:+0100
TZNAME:CET
DTSTART:20261025T010000
END:STANDARD
BEGIN:DAYLIGHT
TZOFFSETFROM:+0100
TZOFFSETTO:+0200
TZNAME:CEST
DTSTART:20270328T010000
END:DAYLIGHT
BEGIN:STANDARD
TZOFFSETFROM:+0200
TZOFFSETTO:+0100
TZNAME:CET
DTSTART:20271031T010000
END:STANDARD
END:VTIMEZONE
BEGIN:VEVENT
DTSTART;VALUE=DATE:20260505
DTEND;VALUE=DATE:20260507
DTSTAMP:20260424T155732
CREATED:20251219T081015Z
LAST-MODIFIED:20260410T061817Z
UID:7025-1777939200-1778111999@habersatter-reisen.com
SUMMARY:Fahrt Ins Grüne
DESCRIPTION:Liebe Reisefreunde\, \nes ist wieder einmal soweit und wir freuen uns\, dass auch Sie dabei sind! \nWie es sich für eine richtige „Fahrt ins Grüne“ gehört\, starten wir erst einmal in Richtung\n„Nirgendwo“. \nBitte einen gültigen Personalausweis oder Reisepass mitnehmen! \nSchönes Wetter wäre durchaus erwünscht für unsere Überraschungsfahrt.\nFalls uns das liebe Wetter jedoch einen Strich durch die Rechnung machen sollte\, machen wir einfach mit Regenschirm und guter Laune das Beste daraus! \nLassen Sie sich von unserer „Fahrt ins Grüne“ überraschen\, \nes wird einiges geboten und wir haben \nuns mit der Organisation wieder viel Mühe gegeben.\nWir hoffen\, Ihr habt viel Spaß! \nNicht zu vergessen! – Gute Laune mitbringen! \n Preis: € 199\,— p.P. im Doppelzimmer\n€ 42\,– p.P. Einzelzimmerzuschlag \n Inkludierte Leistungen\n*Busfahrt & alle Gebühren\n*Übernachtung mit Halbpension\n*Reisebegleitung\n*Verlosung von schönen Preisen\n*Livemusik
URL:https://habersatter-reisen.com/reisen/fahrt-ins-gruene/
ATTACH;FMTTYPE=image/jpeg:https://habersatter-reisen.com/wp-content/uploads/2025/12/jplenio-field-5236879.jpg
END:VEVENT
BEGIN:VEVENT
DTSTART;VALUE=DATE:20260505
DTEND;VALUE=DATE:20260508
DTSTAMP:20260424T155732
CREATED:20251219T081203Z
LAST-MODIFIED:20260410T061722Z
UID:7027-1777939200-1778198399@habersatter-reisen.com
SUMMARY:Fahrt Ins Grüne
DESCRIPTION:Liebe Reisefreunde\, \nes ist wieder einmal soweit und wir freuen uns\, dass auch Sie dabei sind! \nWie es sich für eine richtige „Fahrt ins Grüne“ gehört\, starten wir erst einmal in Richtung\n„Nirgendwo“. \nBitte einen gültigen Personalausweis oder Reisepass mitnehmen! \nSchönes Wetter wäre durchaus erwünscht für unsere Überraschungsfahrt.\nFalls uns das liebe Wetter jedoch einen Strich durch die Rechnung machen sollte\, machen wir einfach mit Regenschirm und guter Laune das Beste daraus! \nLassen Sie sich von unserer „Fahrt ins Grüne“ überraschen\, \nes wird einiges geboten und wir haben \nuns mit der Organisation wieder viel Mühe gegeben.\nWir hoffen\, Ihr habt viel Spaß! \nNicht zu vergessen! – Gute Laune mitbringen! \n Preis: € 289\,— p.P. im Doppelzimmer\n€ 79\,– p.P. Einzelzimmerzuschlag \n Inkludierte Leistungen\n*Busfahrt & alle Gebühren\n*Übernachtung mit Halbpension\n*Reisebegleitung\n*Verlosung von schönen Preisen\n*Livemusik
URL:https://habersatter-reisen.com/reisen/fahrt-ins-gruene-2/
ATTACH;FMTTYPE=image/jpeg:https://habersatter-reisen.com/wp-content/uploads/2025/12/jplenio-field-5236879.jpg
END:VEVENT
BEGIN:VEVENT
DTSTART;VALUE=DATE:20260508
DTEND;VALUE=DATE:20260510
DTSTAMP:20260424T155732
CREATED:20251230T101128Z
LAST-MODIFIED:20260410T063047Z
UID:7087-1778198400-1778371199@habersatter-reisen.com
SUMMARY:Trempelmarkt Nürnberg
DESCRIPTION:Erleben Sie den legendären Trempelmarkt in der historischen Altstadt von Nürnberg – ein wahres Paradies für Schnäppchen­jäger und Sammler! Mit über 1.000 Ständen erstreckt sich der Markt über mehrere Straßen und Plätze und bietet eine faszi­nierende Mischung aus Antiquitäten\, Vintage-Schätzen\, Kleidung\, Büchern\, Kunst und kuriosen Fundstücken. Der Trempelmarkt ist einer der größten und ältesten Flohmärkte in Deutschland und lockt jedes Jahr Tausende von Besuchern an. Lassen Sie sich von der lebhaften Stimmung\, den Straßenkünstlern und den ku­linarischen Genüssen inspirieren und genießen Sie ein Wochen­ende voller Überraschungen! Der Trempelmarkt ist ein Muss für alle\, die das Besondere suchen – ein kulturelles Highlight und ein Einkaufsvergnügen der ganz besonderen Art! \nProgramm: \nTag 1: Anreise und Check-In im Hotel. Anschließend können Sie selbstständig den Flohmarkt besuchen. \nTag 2: Nach dem Frühstück entscheiden Sie selbst\, was Sie sehen und erkunden wollen. Die Heimreise erfolgt am Nachmittag.
URL:https://habersatter-reisen.com/reisen/trempelmarkt-nuernberg/
ATTACH;FMTTYPE=image/jpeg:https://habersatter-reisen.com/wp-content/uploads/2025/12/AdobeStock_314071165_C-xbrchx_-Nuernberg-Gassen.jpeg
END:VEVENT
BEGIN:VEVENT
DTSTART;VALUE=DATE:20260509
DTEND;VALUE=DATE:20260510
DTSTAMP:20260424T155732
CREATED:20251202T102015Z
LAST-MODIFIED:20260410T063713Z
UID:6980-1778284800-1778371199@habersatter-reisen.com
SUMMARY:Muttertagsausflug - Salzburg
DESCRIPTION:Diese besondere Muttertagsfahrt lädt dazu ein\, gemeinsame Zeit mit allen Sinnen zu genießen. Den Auftakt bildet ein entspanntes Keramikbemalen\, bei dem in kreativer Atmosphäre individuelle Kunstwerke entstehen. Begleitet wird dieses Erlebnis von einem liebevoll zusammengestellten\, pflanzlichen Brunch\, der mit frischen\, saisonalen Köstlichkeiten verwöhnt. Anschließend führt die Fahrt weiter zu Frucht & Sinne\, wo eine genussvolle Verkostung regionaler Spezialitäten auf Sie wartet. Ein prickelndes Glas Sekt rundet das Geschmackserlebnis ab und sorgt für einen festlichen Abschluss.
URL:https://habersatter-reisen.com/reisen/muttertagsausflug/
ATTACH;FMTTYPE=image/jpeg:https://habersatter-reisen.com/wp-content/uploads/2025/12/AdobeStock_268920524_C-Kzenon_-Keramik-bemalen-Workshop.jpeg
END:VEVENT
BEGIN:VEVENT
DTSTART;VALUE=DATE:20260516
DTEND;VALUE=DATE:20260517
DTSTAMP:20260424T155732
CREATED:20251219T142822Z
LAST-MODIFIED:20260410T064453Z
UID:7040-1778889600-1778975999@habersatter-reisen.com
SUMMARY:Wallfahrt
DESCRIPTION:Diese Wallfahrt führt durch die reizvolle Landschaft der Steiermark und bietet Zeit für Besinnung\, Gemeinschaft und Innehalten. Die Anreise erfolgt über Gröbming nach Graz\, wo in der traditionsreichen Wallfahrtskirche Maria Trost ein feierlicher Gottesdienst gefeiert wird. Hoch über der Stadt gelegen\, lädt dieser traditionsreiche Wallfahrtsort Raum für Gebet\, Stille und innere Einkehr. Nach dem Gottesdienst ist ein gemeinsames Mittagessen vorgesehen (Mittagessen nicht im Preis inbegriffen)\, bevor die Wallfahrt am Nachmittag nach Thal weiterführt. In der Pfarrkirche St. Jakobus findet eine stimmungsvolle Abschlussandacht statt. Mit vielen neuen Eindrücken und geistlich gestärkt treten Sie anschließend die Heimreise an. \nProgramm: \n\nAnreise\nGottesdienst in der Wallfahrtskirche Maria Trost\nMittagessen\nAbschlussandacht in der Kirche\num ca. 19:00 Uhr Rückkunft im Ennstal\n\n Geistliche Begleitung: Pater Andreas Scheuchenpflug OSB \n Musikalische Gestaltung: Mitterberger Singkreis \n Reiseleitung: Christa Heiß \n Preis: € 51\,- pro Person \n  \n(Bild: (©graz-tourismus-harry-schiffer)
URL:https://habersatter-reisen.com/reisen/wallfahrt/
ATTACH;FMTTYPE=image/webp:https://habersatter-reisen.com/wp-content/uploads/2025/12/basilika-mariatrost-c-graz-tourismus-harry-schiffer-10@2x.fc2c1ea9-2-e1775803334135.webp
END:VEVENT
BEGIN:VEVENT
DTSTART;VALUE=DATE:20260530
DTEND;VALUE=DATE:20260531
DTSTAMP:20260424T155732
CREATED:20251202T103548Z
LAST-MODIFIED:20260410T065430Z
UID:6982-1780099200-1780185599@habersatter-reisen.com
SUMMARY:Gartenfahrt
DESCRIPTION:Diese genussvolle Ausfahrt steht ganz im Zeichen blühender Gartenwelten und entspannter Begegnungen. Den Auftakt bildet die Besichtigung des liebevoll gestalteten Gartens von Irmgard Scheidl\, der mit seiner Vielfalt an Pflanzen\, harmonischen Details und persönlicher Handschrift begeistert. \nAnschließend lädt ein gemeinsames Mittagessen zum Verweilen\, Austauschen und Genießen ein. (Mittagessen nicht im Preis inbegriffen.) \nAm Nachmittag öffnet der Garten von Christine Fischer seine Pforten und bietet mit seiner besonderen Atmosphäre weitere inspirierende Eindrücke. Bei Kaffee\, Saft und hausgemachtem Kuchen klingt der Tag in gemütlicher Runde aus.
URL:https://habersatter-reisen.com/reisen/gartenfahrt/
ATTACH;FMTTYPE=image/jpeg:https://habersatter-reisen.com/wp-content/uploads/2025/12/AdobeStock_219476233_C-monika_rosengartem-blumen.jpeg
END:VEVENT
BEGIN:VEVENT
DTSTART;VALUE=DATE:20260531
DTEND;VALUE=DATE:20260601
DTSTAMP:20260424T155732
CREATED:20251113T105329Z
LAST-MODIFIED:20260410T070137Z
UID:6865-1780185600-1780271999@habersatter-reisen.com
SUMMARY:Johnsbacher Almenrunde
DESCRIPTION:Am Ende des Johnbachtales befindet sich der Ausgangspunkt für eine gemütliche Almenwanderung für die ganze Familie. Die sogenannte „Johnsbacher Almenrunde“ führt über aussichtsreiche Wege zu 4 bewirtschafteten Almen\, die sowohl einzeln als auch als gemütliche Runde erwandert werden können. Teilweise ist die Strecke auch für Mountainbikes befahrbar.  \nWir empfehlen Ihnen folgenden Routenverlauf: Parkplatz Ebneralm – Kölblalm – Huberalm – Ebneralm – Zeiringeralm – Parkplatz.  \nBereits zu Beginn dieser gemütlichen Familienwanderung warten eindrucksvolle Fotomotive entlang der atemberaubenden Schlucht in der Teufelsklamm. Und von zahlreichen Stellen entlang des Weges kann man wunderschöne Ausblicke ins Johnsbachtal genießen. Alle vier Almen bewirten Sie gerne mit köstlichen\, hausgemachten und regionalen Köstlichkeiten. \nProgramm:\n– Morgens Anreise ins Johnsbachtal.\n– Wanderung zu den Almen.\n– Gegen späteren Nachmittag fahren wir wieder zurück in die Heimat. \n 
URL:https://habersatter-reisen.com/reisen/johnsbacher-almenrunde/
ATTACH;FMTTYPE=image/jpeg:https://habersatter-reisen.com/wp-content/uploads/2025/11/AdobeStock_1132897084_C-Rainer-Mirau_Blick-auf-Kalbling-Gesaeuse-Berge-Wandertag.jpeg
END:VEVENT
END:VCALENDAR