BEGIN:VCALENDAR
VERSION:2.0
PRODID:-//Habersatter Reisen - ECPv6.15.20//NONSGML v1.0//EN
CALSCALE:GREGORIAN
METHOD:PUBLISH
X-ORIGINAL-URL:https://habersatter-reisen.com
X-WR-CALDESC:Veranstaltungen für Habersatter Reisen
REFRESH-INTERVAL;VALUE=DURATION:PT1H
X-Robots-Tag:noindex
X-PUBLISHED-TTL:PT1H
BEGIN:VTIMEZONE
TZID:Europe/Vienna
BEGIN:DAYLIGHT
TZOFFSETFROM:+0100
TZOFFSETTO:+0200
TZNAME:CEST
DTSTART:20250330T010000
END:DAYLIGHT
BEGIN:STANDARD
TZOFFSETFROM:+0200
TZOFFSETTO:+0100
TZNAME:CET
DTSTART:20251026T010000
END:STANDARD
BEGIN:DAYLIGHT
TZOFFSETFROM:+0100
TZOFFSETTO:+0200
TZNAME:CEST
DTSTART:20260329T010000
END:DAYLIGHT
BEGIN:STANDARD
TZOFFSETFROM:+0200
TZOFFSETTO:+0100
TZNAME:CET
DTSTART:20261025T010000
END:STANDARD
BEGIN:DAYLIGHT
TZOFFSETFROM:+0100
TZOFFSETTO:+0200
TZNAME:CEST
DTSTART:20270328T010000
END:DAYLIGHT
BEGIN:STANDARD
TZOFFSETFROM:+0200
TZOFFSETTO:+0100
TZNAME:CET
DTSTART:20271031T010000
END:STANDARD
END:VTIMEZONE
BEGIN:VEVENT
DTSTART;VALUE=DATE:20260607
DTEND;VALUE=DATE:20260614
DTSTAMP:20260424T174652
CREATED:20250919T063100Z
LAST-MODIFIED:20260410T070638Z
UID:6800-1780790400-1781395199@habersatter-reisen.com
SUMMARY:Badewoche Caorle
DESCRIPTION:Sonne\, Strand\, Meer – all das und noch viel mehr hat Caorle in „Bella Italia“ für seine Gäste zu bieten. Ob bei einem entspannten Badetag am Meer\, einem gemütlichen Städtebummel oder einem leckeren Essen… hier ist wirklich für alle was dabei. Auch dieses Jahr packt uns wieder die Lust aufs Reisen und die einzigartige Atmosphäre von Italien\, aus diesem Grund laden wir Euch herzlich ein mit uns gemeinsam ein paar Tage Erholung am Meer zu genießen. \nTag 1: Fahrt in unserem modernen Reisebus bis Caorle ins Hotel. \nTag 2-6: In diesen Tagen können Sie Ihren Urlaub ganz nach eigenem Geschmack gestalten\, genießen und erleben. \nTag 7: Nach dem Frühstück geht es frisch und erholt wieder zurück. \nPreis: € 779\,- p.P. im Doppelzimmer\n€ 300\,- EZZ im Doppelzimmer zur Alleinbenützung \n 
URL:https://habersatter-reisen.com/reisen/badewoche-caorle/
ATTACH;FMTTYPE=image/jpeg:https://habersatter-reisen.com/wp-content/uploads/2025/09/AdobeStock_498202094_C-Andrew-Mayovskyy_Caorle.jpeg
END:VEVENT
BEGIN:VEVENT
DTSTART;VALUE=DATE:20260621
DTEND;VALUE=DATE:20260622
DTSTAMP:20260424T174652
CREATED:20251125T102642Z
LAST-MODIFIED:20260413T080447Z
UID:6943-1782000000-1782086399@habersatter-reisen.com
SUMMARY:Badetag Bibione
DESCRIPTION:Genießen Sie Strand\, Meer und Bummeln in der Fußgängerzone.\nMeeresrauschen\, Strandvergnügen\, italienische Küche – einen ganzen Tag lang! \nProgramm:\nFrüh morgens erfolgt die Anreise aus dem Ennstal mit WC-Kaffeepause.\nDanach geht´s auf den Weg weiter nach Bibione.\nDort angekommen\, stehen Euch 9 Stunden Aufenthalt zur freien Verfügung\, Sie können Ihren Tag nach Belieben gestalten.\nUm ca. Mitternacht ist Ihre Rückkunft im Ennstal.  \n~ (Bitte um Beachtung\, dass unser Fahrer nach Ankunft eine Pause von 9 Stunden machen muss! – Wir bitten um Verständnis) \nPreis: € 69\,- pro Person\n€ 48\,- pro Kind (bis 14\,9 J.)
URL:https://habersatter-reisen.com/reisen/badetag-bibione/
ATTACH;FMTTYPE=image/jpeg:https://habersatter-reisen.com/wp-content/uploads/2025/11/AdobeStock_431029232_C_Soho-A-studio_Badetag.jpeg
END:VEVENT
BEGIN:VEVENT
DTSTART;VALUE=DATE:20260628
DTEND;VALUE=DATE:20260629
DTSTAMP:20260424T174652
CREATED:20251125T134527Z
LAST-MODIFIED:20260413T080712Z
UID:6957-1782604800-1782691199@habersatter-reisen.com
SUMMARY:One Republic - Burg Clam
DESCRIPTION:Seit mittlerweile über 30 Jahren finden jährlich im Sommer einzigartige Konzerte auf der oberösterreichischen Burg Clam statt. Als eine der außergewöhnlichsten und spektakulärsten Konzert- und Event-Location Österreichs\, hat sich die Veranstaltungsreihe von CLAM LIVE im In- und Ausland einen Namen gemacht. Zahlreiche nationale und internationale MusikerInnen und KünstlerInnen waren bereits Gast auf dem historischen Areal unterhalb der mittelalterlichen Festung. \nFrom Clam\, with Love: OneRepublic kehren 2026 endlich zurück nach Österreich! Die US-Superstars um Frontmann Ryan Tedder bringen ihre größten Hits wie Counting Stars\, Apologize und Run live auf die legendäre Bühne der Burg Clam. Mit ihrer energiegeladenen Performance\, gefühlvollen Balladen und weltweiten Chart-Erfolgen verspricht das Konzert ein absolutes Sommer-Highlight zu werden. \nPreis: € 189\,- p.P. inkl. Stehplatzticket und Busfahrt
URL:https://habersatter-reisen.com/reisen/one-republic-burg-clam/
ATTACH;FMTTYPE=image/jpeg:https://habersatter-reisen.com/wp-content/uploads/2025/11/Burg-Clam-Konzert.jpg
END:VEVENT
END:VCALENDAR