BEGIN:VCALENDAR
VERSION:2.0
PRODID:-//Habersatter Reisen - ECPv6.15.20//NONSGML v1.0//EN
CALSCALE:GREGORIAN
METHOD:PUBLISH
X-WR-CALNAME:Habersatter Reisen
X-ORIGINAL-URL:https://habersatter-reisen.com
X-WR-CALDESC:Veranstaltungen für Habersatter Reisen
REFRESH-INTERVAL;VALUE=DURATION:PT1H
X-Robots-Tag:noindex
X-PUBLISHED-TTL:PT1H
BEGIN:VTIMEZONE
TZID:Europe/Vienna
BEGIN:DAYLIGHT
TZOFFSETFROM:+0100
TZOFFSETTO:+0200
TZNAME:CEST
DTSTART:20250330T010000
END:DAYLIGHT
BEGIN:STANDARD
TZOFFSETFROM:+0200
TZOFFSETTO:+0100
TZNAME:CET
DTSTART:20251026T010000
END:STANDARD
BEGIN:DAYLIGHT
TZOFFSETFROM:+0100
TZOFFSETTO:+0200
TZNAME:CEST
DTSTART:20260329T010000
END:DAYLIGHT
BEGIN:STANDARD
TZOFFSETFROM:+0200
TZOFFSETTO:+0100
TZNAME:CET
DTSTART:20261025T010000
END:STANDARD
BEGIN:DAYLIGHT
TZOFFSETFROM:+0100
TZOFFSETTO:+0200
TZNAME:CEST
DTSTART:20270328T010000
END:DAYLIGHT
BEGIN:STANDARD
TZOFFSETFROM:+0200
TZOFFSETTO:+0100
TZNAME:CET
DTSTART:20271031T010000
END:STANDARD
END:VTIMEZONE
BEGIN:VEVENT
DTSTART;VALUE=DATE:20260705
DTEND;VALUE=DATE:20260706
DTSTAMP:20260424T191924
CREATED:20251125T102952Z
LAST-MODIFIED:20260413T080941Z
UID:6948-1783209600-1783295999@habersatter-reisen.com
SUMMARY:Badetag Grado
DESCRIPTION:Genießen Sie Strand\, Meer und Bummeln in der Fußgängerzone.\nMeeresrauschen\, Strandvergnügen\, italienische Küche – einen ganzen Tag lang! \nProgramm:\nFrüh morgens erfolgt die Anreise aus dem Ennstal mit WC-Kaffeepause.\nDanach geht´s auf den Weg weiter nach Grado\, Bushaltestelle Nähe Hotel Savoy!\nDort angekommen\, stehen Euch 9 Stunden Aufenthalt zur freien Verfügung\, Sie können Ihren Tag nach Belieben gestalten.\nUm ca. Mitternacht ist Ihre Rückkunft im Ennstal.  \n~ (Bitte um Beachtung\, dass unser Fahrer nach Ankunft eine Pause von 9 Stunden machen muss! – Wir bitten um Verständnis) \nPreis: € 69\,- pro Person\n€ 48\,- pro Kind (bis 14\,9 J.)
URL:https://habersatter-reisen.com/reisen/badetag-grado/
ATTACH;FMTTYPE=image/jpeg:https://habersatter-reisen.com/wp-content/uploads/2025/11/AdobeStock_431029232_C_Soho-A-studio_Badetag.jpeg
END:VEVENT
BEGIN:VEVENT
DTSTART;VALUE=DATE:20260710
DTEND;VALUE=DATE:20260714
DTSTAMP:20260424T191924
CREATED:20251219T143011Z
LAST-MODIFIED:20260413T080907Z
UID:7042-1783641600-1783987199@habersatter-reisen.com
SUMMARY:Schlösser\, Mohn und Kellergassen
DESCRIPTION:Bunter Streifzug durch das Wein- & Waldviertel \nProgramm: \nTag 1: Morgens Anreise über Gröbming bis Wien. Nach einer ausgedehnten Stadtrundfahrt ist der Blumengarten Hirschstetten das erste Ziel. Sie werden über die Vielfalt der blühenden Pflanzen und auch des Tierbestandes staunen. \nTag 2: Dieser Tag ist dem Marchfeld gewidmet. Genießen Sie die Weite des Landes\, vorbei an den Schlössern Marchegg\, Eckartsau\, Orth\, Niederweiden und Hof. Eines dieser Prunkgebäude werden Sie von innen bestaunen. \nTag 3: Heute verbringen Sie den Tag im Weinviertel. Im Rahmen einer Rundreise sehen Sie die Vielfalt der Landschaft mit ihren Weingärten\, Getreidefeldern und viel noch unberührter Natur. Kleine Weinbauorte\, die längste Kellergasse und die typische Kulinarik sind Thema dieses Tages. \nTag 4: Die Heimreise erfolgt über das Waldviertel. Der Mohnhof Gressl und das Mohndorf Armschlag sind letzte Ziele Ihrer Reise. Ein typisches Mohnmenü in Ottenschlag ist die Krönung dieses Tages! Um ca. 20:00 Uhr Rückkunft im Ennstal.\n\nPreis: € 489\,- pro Person\n             € 51\,- Einzelzimmerzuschlag\n-Busfahrt\n-3x Übernachtung inkl. Halbpension\n– 1x Stadtrundfahrt Wien\n-1x Führung Mohnbauernhof Ottenschlag\n– 1x Kellergassenführung\n-1x Mohnmenü
URL:https://habersatter-reisen.com/reisen/schloesser-mohn-und-kellergassen/
ATTACH;FMTTYPE=image/jpeg:https://habersatter-reisen.com/wp-content/uploads/2025/12/AdobeStock_516066309_C-Sonja-Birkelbach_Waldviertler-Graumohn-Mohn-Rot-und-Weiss.jpeg
END:VEVENT
BEGIN:VEVENT
DTSTART;VALUE=DATE:20260717
DTEND;VALUE=DATE:20260718
DTSTAMP:20260424T191924
CREATED:20260324T113928Z
LAST-MODIFIED:20260413T081039Z
UID:7187-1784246400-1784332799@habersatter-reisen.com
SUMMARY:Edmund 'Legenden Tour' 2026
DESCRIPTION:Machen Sie sich bereit für einen unvergesslichen Abend voller Emotionen\, ehrlicher Texte und mitreißender Melodien: Edmund kommt nach Bad Mitterndorf! \nDie beiden Musiker verstehen es wie kaum jemand\, Geschichten aus dem echten Leben in Songs zu verwandeln\, die direkt ins Herz gehen. Ob gefühlvolle Balladen oder energiegeladene Hits – bei diesem Konzert ist Gänsehaut garantiert. In der einzigartigen Atmosphäre von Bad Mitterndorf wird die Musik von Edmund besonders intensiv erlebbar und sorgt für einen Abend\, den Sie so schnell nicht vergessen werden. \nGanz gleich\, ob Sie bereits langjähriger Fan sind oder die Musik von Edmund neu für sich entdecken – dieses Konzert bietet Ihnen die perfekte Gelegenheit\, gemeinsam mit Freunden oder Familie eine großartige Zeit zu verbringen\, mitzusingen\, zu tanzen und einfach den Moment zu genießen. \nAlso: Sichern Sie sich Ihren Platz und seien Sie dabei\, wenn Bad Mitterndorf für einen Abend ganz im Zeichen von Edmund steht. Dieses Konzert ist mehr als nur Musik – es ist ein Erlebnis\, das begeistert! \nKonzertbeginn: 20:00 Uhr
URL:https://habersatter-reisen.com/reisen/edmund_bad-mitterndorf_legenden_tour/
LOCATION:Bad Mitterndorf\, Austria
ATTACH;FMTTYPE=image/jpeg:https://habersatter-reisen.com/wp-content/uploads/2026/03/Edmund.jpg
END:VEVENT
BEGIN:VEVENT
DTSTART;VALUE=DATE:20260718
DTEND;VALUE=DATE:20260719
DTSTAMP:20260424T191924
CREATED:20251027T162635Z
LAST-MODIFIED:20260413T081413Z
UID:6860-1784332800-1784419199@habersatter-reisen.com
SUMMARY:Pretty Woman Musical – Landestheater Linz
DESCRIPTION:Eine unerwartete Liebesgeschichte und ein ikonischer Moment der Filmgeschichte \nEdward und Vivian – zwei Menschen\, die unterschiedlicher nicht sein können. Er\, ein wohlhabender und erfolgreicher Geschäftsmann. Sie\, eine junge Frau\, die sich als Prostituierte durch das Leben schlägt. Dieser Gegensatz verleiht der unerwarteten Liebesgeschichte seine zeitlose Magie\, welche bis heute Generationen von Zuschauer:innen verzaubert. Tauchen Sie ein in eine Welt voller Glanz\, Glamour und Romantik und verlieben Sie sich in einen ikonischen Moment der Filmgeschichte neu: wenn Vivian ihre schwarzen Lackstiefel gegen das legendäre rote Kleid tauscht… \nErleben Sie Pretty Woman – Das Musical mit einem Soundtrack\, der garantiert Ohrwürmer hinterlässt und emotionalen Höhepunkten\, die Sie noch lange berühren werden. \nTagesablauf:\n– Abreise lt. Einsteigplan\n– 14:30 Uhr Beginn\n– Anschließend Heimreise \nPreis:\n€ 189\,- inkl. Ticket Kat. 1\n€ 175\,- inkl. Ticket Kat. 2
URL:https://habersatter-reisen.com/reisen/pretty-woman-musical-landestheater-linz/
ATTACH;FMTTYPE=image/jpeg:https://habersatter-reisen.com/wp-content/uploads/2025/10/Limelight_Live_Entertainment_Pretty_Woman_-_Das_Musical_Szenenfoto_007-Dominik-Flohr-e1776068047408.jpg
END:VEVENT
BEGIN:VEVENT
DTSTART;VALUE=DATE:20260719
DTEND;VALUE=DATE:20260720
DTSTAMP:20260424T191924
CREATED:20251125T102801Z
LAST-MODIFIED:20260413T081508Z
UID:6946-1784419200-1784505599@habersatter-reisen.com
SUMMARY:Badetag Bibione
DESCRIPTION:Genießen Sie Strand\, Meer und Bummeln in der Fußgängerzone.\nMeeresrauschen\, Strandvergnügen\, italienische Küche – einen ganzen Tag lang! \nProgramm:\nFrüh morgens erfolgt die Anreise aus dem Ennstal mit WC-Kaffeepause.\nDanach geht´s auf den Weg weiter nach Bibione.\nDort angekommen\, stehen Euch 9 Stunden Aufenthalt zur freien Verfügung\, Sie können Ihren Tag nach Belieben gestalten.\nUm ca. Mitternacht ist Ihre Rückkunft im Ennstal.  \n~ (Bitte um Beachtung\, dass unser Fahrer nach Ankunft eine Pause von 9 Stunden machen muss! – Wir bitten um Verständnis) \nPreis: € 69\,- pro Person\n€ 48\,- pro Kind (bis 14\,9 J.)
URL:https://habersatter-reisen.com/reisen/badetag-bibione-2/
ATTACH;FMTTYPE=image/jpeg:https://habersatter-reisen.com/wp-content/uploads/2025/11/AdobeStock_431029232_C_Soho-A-studio_Badetag.jpeg
END:VEVENT
BEGIN:VEVENT
DTSTART;VALUE=DATE:20260721
DTEND;VALUE=DATE:20260801
DTSTAMP:20260424T191924
CREATED:20251219T143329Z
LAST-MODIFIED:20260413T081707Z
UID:7044-1784592000-1785542399@habersatter-reisen.com
SUMMARY:Schottland - Whiskey\, Natur & Loch Ness
DESCRIPTION:790 Inseln\, sanfte Hügel\, liebliche Lochs\, weite Täler\, kleine Dörfer\, mythische Weiten\, bewachsen mit Heidekraut\, beweidet von zahlreichen Schafen und Hochlandrindern. Klare Flüsse voller Fische\, dudelsackpfeifende Männer mit Kilts und 150 Whiskey Brennereien\, Haggis\, Schottische Eier und Tatties – so wird die nördlichste Region der Britischen Inseln beschrieben. Überzeugen Sie sich selbst! Reisen Sie mit in diesen faszinierenden Fleck Europas! \nProgramm: \nTag 1: Frühmorgens erfolgt die Anreise aus dem Ennstal bis in die Gegend Frankfurt/Main zur Zwischennächtigung. \nTag 2: Weiterreise bis Volendam mit Aufenthalt. Fahrt nach Ijmuiden und Einchecken auf die Fähre Richtung Newcastle. \nTag 3: Um ca. 09:00 Uhr verlassen Sie das Schiff. Sie fahren durch die schottischen Borders über Jedburgh – Melrose – Rosslyn Chapel – vorbei an Edinburgh über die Forth Road Bridge bis Dundee. Dort beziehen Sie Ihr Hotel für drei Nächte. \nTag 4: Ausflug: Culross – Edinburgh Stadtspaziergang – Whiskey Heritage \nTag 5: Ausflug entlang der Nordsee: Stonehaven – Dunnottar Castle – St. Andrews – Führung in Queen Mums Kindheitsschloss ‘Glamis Castle’ \nTag 6: Über Perth – Pitlochry – Fort Augustus führt der Weg zu Clansmanns Schiffshafen. Hier ist der Startpunkt einer Schiffstour auf dem Loch Ness. Am Urquhart Castle halten Sie für einen Castle Walk. In Aviemore beziehen Sie Ihr Hotel für drei Nächte. \nTag 7: Entlang des Moray Firth geht es Richtung Wick. Eine deutschsprachige Reiseleitung begleitet Sie ab Inverness über Goldspie\, Dunbeath etc. An der Strecke können Sie Seehunde beobachten\, die am Ufer liegen. Außerdem liegen dort Bohrinseln nah am Ufer\, die für Reparaturen herein gelotst werden. \nTag 8: Heute erwartet Sie ein Ausflug über Fort Williams\, Glenfinnan an den Atlantik mit Aufenthalt in Mallaig. Diese Strecke kann wahlweise auch mit dem Jacobite Steam Train – auf einer der schönsten Eisenbahnstrecken weltweit – zurückgelegt werden. Die Rückreise erfolgt mit dem Bus. (Zugticket kann zugebucht werden.) \nTag 9: Sie starten mit der Rückreise. Über Loch Lomond und Glasgow fahren Sie zur Fähre nach Newcastle. \nTag 10: Heute verlassen Sie die Fähre und fahren weiter zur Zwischennächtigung. \nTag 11: Sie erreichen um ca. 20:00 Uhr das Ennstal. \nPreis: € 1795\,- pro Person; € ?\,- EZZ\n \n-Busfahrt + alle Gebühren\n-Visum\n-8x Übernachtung mit Halbpension\n-2x Fährüberfahrt\n-2x Frühstück und Abendessen am Schiff\n-2x deutschsprachige Reiseleitung\n-1x Schifffahrt Loch Ness\n-1x Whiskey Heritage \n(Extrakosten: div. Mittagessen\, Eintritte\, Aufzahlung Außen-/Einzelkabine\, Zugticket)
URL:https://habersatter-reisen.com/reisen/schottland/
ATTACH;FMTTYPE=image/jpeg:https://habersatter-reisen.com/wp-content/uploads/2025/12/AdobeStock_73868048_C-Zbyszko_-Schottisches-Hochlandrind-Schaf-Schottland-e1776068219602.jpeg
END:VEVENT
END:VCALENDAR