BEGIN:VCALENDAR
VERSION:2.0
PRODID:-//Habersatter Reisen - ECPv6.15.20//NONSGML v1.0//EN
CALSCALE:GREGORIAN
METHOD:PUBLISH
X-WR-CALNAME:Habersatter Reisen
X-ORIGINAL-URL:https://habersatter-reisen.com
X-WR-CALDESC:Veranstaltungen für Habersatter Reisen
REFRESH-INTERVAL;VALUE=DURATION:PT1H
X-Robots-Tag:noindex
X-PUBLISHED-TTL:PT1H
BEGIN:VTIMEZONE
TZID:Europe/Vienna
BEGIN:DAYLIGHT
TZOFFSETFROM:+0100
TZOFFSETTO:+0200
TZNAME:CEST
DTSTART:20250330T010000
END:DAYLIGHT
BEGIN:STANDARD
TZOFFSETFROM:+0200
TZOFFSETTO:+0100
TZNAME:CET
DTSTART:20251026T010000
END:STANDARD
BEGIN:DAYLIGHT
TZOFFSETFROM:+0100
TZOFFSETTO:+0200
TZNAME:CEST
DTSTART:20260329T010000
END:DAYLIGHT
BEGIN:STANDARD
TZOFFSETFROM:+0200
TZOFFSETTO:+0100
TZNAME:CET
DTSTART:20261025T010000
END:STANDARD
BEGIN:DAYLIGHT
TZOFFSETFROM:+0100
TZOFFSETTO:+0200
TZNAME:CEST
DTSTART:20270328T010000
END:DAYLIGHT
BEGIN:STANDARD
TZOFFSETFROM:+0200
TZOFFSETTO:+0100
TZNAME:CET
DTSTART:20271031T010000
END:STANDARD
END:VTIMEZONE
BEGIN:VEVENT
DTSTART;VALUE=DATE:20260802
DTEND;VALUE=DATE:20260803
DTSTAMP:20260424T205506
CREATED:20251125T103154Z
LAST-MODIFIED:20260413T081749Z
UID:6952-1785628800-1785715199@habersatter-reisen.com
SUMMARY:Badetag Lignano
DESCRIPTION:Genießen Sie Strand\, Meer und Bummeln in der Fußgängerzone.\nMeeresrauschen\, Strandvergnügen\, italienische Küche – einen ganzen Tag lang! \nProgramm:\nFrüh morgens erfolgt die Anreise aus dem Ennstal mit WC-Kaffeepause.\nDanach geht´s auf den Weg weiter nach Lignano\, Parkhaus Autostazione Lignano Sabbiadoro\nDort angekommen\, stehen Euch 9 Stunden Aufenthalt zur freien Verfügung\, Sie können Ihren Tag nach Belieben gestalten.\nUm ca. Mitternacht ist Ihre Rückkunft im Ennstal.  \n~ (Bitte um Beachtung\, dass unser Fahrer nach Ankunft eine Pause von 9 Stunden machen muss! – Wir bitten um Verständnis)\n \nPreis: € 69\,- pro Person\n€ 48\,- pro Kind (bis 14\,9 J.)
URL:https://habersatter-reisen.com/reisen/badetag-lignano/
ATTACH;FMTTYPE=image/jpeg:https://habersatter-reisen.com/wp-content/uploads/2025/11/AdobeStock_431029232_C_Soho-A-studio_Badetag.jpeg
END:VEVENT
BEGIN:VEVENT
DTSTART;VALUE=DATE:20260814
DTEND;VALUE=DATE:20260817
DTSTAMP:20260424T205506
CREATED:20251128T102306Z
LAST-MODIFIED:20260413T082252Z
UID:6971-1786665600-1786924799@habersatter-reisen.com
SUMMARY:Musikfestspiele Mörbisch & St. Margarethen
DESCRIPTION:Mutter Natur und die menschliche Kreativität schaffen die perfekte Kulisse für die traditionellen Musikfestspiele am Neusiedler See im Burgenland.\nErleben Sie eine Kombination unvergesslicher Musical- und Opernereignisse auf der Seebühne in Mörbisch und im Römersteinbruch in St. Margarethen. Auf einer der schönsten Freiluftbühnen Europas zelebrieren die Opernfestspiele Jahr für Jahr Musik- und Kulturgenuss für alle Sinne. Tauchen Sie ein und lassen Sie sich verzaubern – von der spektakulären Kulisse\, den mitreißenden Inszenierungen\, der Freude an großen Gefühlen. \nTickets gegen Aufpreis buchbar:\n€ 57\,- p.P. – Ein Käfig voller Narren – La Cage Aux Folles – Das Musical am 14.08.2026 \n€ 98\, p.P.- Tosca St. Margarethen 15.08.2026 \n  \nFoto: © Seefestspiele Mörbisch/Jerzy Bin
URL:https://habersatter-reisen.com/reisen/musikfestspiele-moerbisch-st-margarethen/
ATTACH;FMTTYPE=image/jpeg:https://habersatter-reisen.com/wp-content/uploads/2025/11/by-jerzy-bin-2015-buehnenbild-eine-nacht-in-venedig.jpg
END:VEVENT
BEGIN:VEVENT
DTSTART;VALUE=DATE:20260818
DTEND;VALUE=DATE:20260823
DTSTAMP:20260424T205506
CREATED:20251219T143448Z
LAST-MODIFIED:20260413T082406Z
UID:7046-1787011200-1787443199@habersatter-reisen.com
SUMMARY:Von Bratislava bis Esztergom - Eine Reise links & rechts der Donau
DESCRIPTION:Die Donau\, zweitlängster Strom Europas\, ist ein Grenzfluss zwischen Slowakei und Ungarn. Die Schüttinsel auf der slowakischen Seite ist ein Stück Natur der besonderen Art. Lernen Sie die schönen Orte links und rechts dieses faszinierenden Stromes kennen. \nProgramm: \nTag 1: Frühmorgens erfolgt die Anreise aus dem Ennstal bis Nickelsdorf zur Grenze zu Ungarn. Ihr Hotel befindet sich direkt an der Flexum Therme. Sie können hier alle Annehmlichkeiten des Wellnesshotels genießen. \nTag 2-4: In diesen Tagen bereisen Sie mit deutschsprachiger Reiseleitung die Umgebung in der Südslowakei und Nordungarn längs der Donau. Städte auf der Großen Schüttinsel – Dunajská Streda – Komarno SK mit der größten Festungsanlage Mitteleuropas – verbunden durch die Elisabethbrücke mit Komarno HU\, wo der marktführende Hersteller von E-Bussen beheimatet ist. Györ\, Tata und schließlich die Bischofsstadt Esztergom sind Juwele Nordungarns. \nTag 5: Die Heimreise erfolgt über das Burgenland um den Neusiedlersee. Rückkunft im Ennstal um ca. 20:00 Uhr. \nPreis: € 795\,- pro Person; € 70\,- EZZ\nBusfahrt + alle Gebühren\n4x Übernachtung im Wellnesshotel inkl. Halbpension\n2x deutschsprachige Reiseleitung\n1x Schifffahrt \n(Extrakosten: div. Mittagessen\, Getränke) \n 
URL:https://habersatter-reisen.com/reisen/von-bratislava-bis-esztergom-eine-reise-links-rechts-der-donau/
ATTACH;FMTTYPE=image/jpeg:https://habersatter-reisen.com/wp-content/uploads/2025/12/AdobeStock_110402573_C-rh2010_Bratislava.jpeg
END:VEVENT
BEGIN:VEVENT
DTSTART;VALUE=DATE:20260830
DTEND;VALUE=DATE:20260831
DTSTAMP:20260424T205506
CREATED:20251125T103035Z
LAST-MODIFIED:20260413T083101Z
UID:6950-1788048000-1788134399@habersatter-reisen.com
SUMMARY:Badetag Grado
DESCRIPTION:Genießen Sie Strand\, Meer und Bummeln in der Fußgängerzone.\nMeeresrauschen\, Strandvergnügen\, italienische Küche – einen ganzen Tag lang! \nProgramm:\nFrüh morgens erfolgt die Anreise aus dem Ennstal mit WC-Kaffeepause.\nDanach geht´s auf den Weg weiter nach Grado\, Bushaltestelle Nähe Hotel Savoy!\nDort angekommen\, stehen Euch 9 Stunden Aufenthalt zur freien Verfügung\, Sie können Ihren Tag nach Belieben gestalten.\nUm ca. Mitternacht ist Ihre Rückkunft im Ennstal.  \n~ (Bitte um Beachtung\, dass unser Fahrer nach Ankunft eine Pause von 9 Stunden machen muss! – Wir bitten um Verständnis) \nPreis: € 69\,- pro Person\n€ 48\,- pro Kind (bis 14\,9 J.)
URL:https://habersatter-reisen.com/reisen/badetag-grado-2/
ATTACH;FMTTYPE=image/jpeg:https://habersatter-reisen.com/wp-content/uploads/2025/11/AdobeStock_431029232_C_Soho-A-studio_Badetag.jpeg
END:VEVENT
BEGIN:VEVENT
DTSTART;VALUE=DATE:20260831
DTEND;VALUE=DATE:20260904
DTSTAMP:20260424T205506
CREATED:20251219T142745Z
LAST-MODIFIED:20260413T082535Z
UID:7038-1788134400-1788479999@habersatter-reisen.com
SUMMARY:Septembertage in der Kvarner Bucht
DESCRIPTION:Programm: \n1 Tag:  Morgens erfolgt die Anreise über Radstadt – A10 – Karawankentunnel-  Ljubljana – Postojna – Rupa-Grenze – bis an die Kvarner Bucht. Beziehen Sie Ihr Hotel direkt am Meer\, umgeben von Pinien und Zypressen\, für 3 Nächte. \n2 & 3 Tag: Gestalten Sie den Tag nach Ihren Bedürfnissen mit Wellness\, Spaziergängen oder einer Wanderung in die Umgebung.  Nutzen Sie die heilende Kraft des Meeres und der salzhaltigen Luft! \n4 Tag: Rückkunft im Ennstal um ca. 19:00 Uhr. \nInkludierte Leistungen \n\nBusfahrt & Gebühren im Luxusbus\n3x Übernachtung im DZ 4* Hotel\n3x Frühstücks- und Abendbuffet\nAlkoholfreie Getränke\nalle Kurtaxen\nFreie Poolbenutzung\nLiegen am Pool gratis!\n\nNicht vergessen:\n–    Reisepass-Personalausweis\n–    Badepantoffel/Badesachen \nPreis: € 459\,- p.P. im Doppelzimmer\n€ 75\,- Einzelzimmerzuschlag\n€ 30\,- Aufpreis für Zimmer mit Meerblick\nFamilienzimmer auf Anfrage
URL:https://habersatter-reisen.com/reisen/septembertage-in-der-kvarner-bucht/
ATTACH;FMTTYPE=image/jpeg:https://habersatter-reisen.com/wp-content/uploads/2025/12/AdobeStock_291194997_C-Andrew-Mayovskyy_-Kvarner-Bucht-Vrbnik-Kroatien.jpeg
END:VEVENT
END:VCALENDAR