BEGIN:VCALENDAR
VERSION:2.0
PRODID:-//Habersatter Reisen - ECPv6.15.20//NONSGML v1.0//EN
CALSCALE:GREGORIAN
METHOD:PUBLISH
X-WR-CALNAME:Habersatter Reisen
X-ORIGINAL-URL:https://habersatter-reisen.com
X-WR-CALDESC:Veranstaltungen für Habersatter Reisen
REFRESH-INTERVAL;VALUE=DURATION:PT1H
X-Robots-Tag:noindex
X-PUBLISHED-TTL:PT1H
BEGIN:VTIMEZONE
TZID:Europe/Vienna
BEGIN:DAYLIGHT
TZOFFSETFROM:+0100
TZOFFSETTO:+0200
TZNAME:CEST
DTSTART:20250330T010000
END:DAYLIGHT
BEGIN:STANDARD
TZOFFSETFROM:+0200
TZOFFSETTO:+0100
TZNAME:CET
DTSTART:20251026T010000
END:STANDARD
BEGIN:DAYLIGHT
TZOFFSETFROM:+0100
TZOFFSETTO:+0200
TZNAME:CEST
DTSTART:20260329T010000
END:DAYLIGHT
BEGIN:STANDARD
TZOFFSETFROM:+0200
TZOFFSETTO:+0100
TZNAME:CET
DTSTART:20261025T010000
END:STANDARD
BEGIN:DAYLIGHT
TZOFFSETFROM:+0100
TZOFFSETTO:+0200
TZNAME:CEST
DTSTART:20270328T010000
END:DAYLIGHT
BEGIN:STANDARD
TZOFFSETFROM:+0200
TZOFFSETTO:+0100
TZNAME:CET
DTSTART:20271031T010000
END:STANDARD
END:VTIMEZONE
BEGIN:VEVENT
DTSTART;VALUE=DATE:20260930
DTEND;VALUE=DATE:20261009
DTSTAMP:20260425T000805
CREATED:20251219T143629Z
LAST-MODIFIED:20260413T083321Z
UID:7049-1790726400-1791503999@habersatter-reisen.com
SUMMARY:Auf den Weg nach Lourdes
DESCRIPTION:Im Jahr 1858 wurde der schlichte Ort Lourdes\, am Fuße der Pyrenäen in Südfrankreich gelegen\, schlagartig weltbekannt. Dem einfachen\, kranken Hirtenmädchen\, Bernadette Soubirous\, erschien nahe der Grotte Massabielle 18 Mal eine ‘schöne\, weiße Dame’. Dem Volksmund nach handelte es sich um Erscheinungen. Heute wissen wir\, dass Lourdes ein Kraftort für Geist\, Leib und Seele für jährlich über 5 Millionen Besucher geworden ist. Lourdes und viele andere\, geschichtsträchtige und auch religiös geprägte Orte\, umrahmt von der wunderbaren Kulisse Südfrankreichs\, sind Hotspots auf dieser Reise. \nProgramm: \nTag 1: Anreise über das Kanaltal – Padua – Piacenza – Arenzano. \nTag 2: In Ventimiglia lassen Sie Italien hinter sich. Die nächsten Ziele sind Saint Gilles\, Montpellier und Bezier. \nTag 3: Heute ist ein Aufenthalt in der Katharer Burgstadt Carcassonne geplant\, ehe Sie im Hotel in Lourdes für drei Nächte einchecken. \nTag 4: Gestalten Sie den Tag ganz nach Ihren Wünschen. Sie haben die Möglichkeit\, an einem begleiteten Spaziergang teilzunehmen und an verschiedenen Angeboten\, wie einem Gottesdienst\, Kreuzweg\, uvm.\, in Anspruch zu nehmen. \nTag 5: Ausflug nach Biarritz am Golf von Biskaya. Am alten Strand der Stadt haben Sie auch die Möglichkeit\, im frischen Atlantik ein Bad zu nehmen. \nTag 6: Sie verlassen Lourdes. Über Toulouse geht es nordwärts bis zum einstigen Hauptwallfahrtsort der Franzosen\, Rocamadour. \nTag 7: Heute sehen Sie Nevers den unversehrten Leichnam der Bernadette. In der Gegend findet die vorletzte Übernachtung statt. \nTag 8: Lassen Sie Frankreich hinter sich. Über Freiburg geht die Route zur letzten Station im Schwarzwald. \nTag 9: Heimreise mit Abschluss-Impressionen in der Wallfahrtskirche Birnau am Bodensee. Rückkunft um ca. 20:00 Uhr im Ennstal. \nPreis: € 1249\,- pro Person; € 240\,- EZZ\n-Busfahrt + alle Gebühren\n-8x Übernachtung mit Halbpension\n-1x Mittagessen\n(wahlweise Mittagessen in Lourdes oder Ausflug: an den Atlantik/Biarritz) \n(Extrakosten: div. Mittagessen\, Eintritte)
URL:https://habersatter-reisen.com/reisen/auf-den-weg-nach-lourdes/
ATTACH;FMTTYPE=image/jpeg:https://habersatter-reisen.com/wp-content/uploads/2025/12/AdobeStock_278910746_C-by-studio-Lourdes-Frankreich-.jpeg
END:VEVENT
BEGIN:VEVENT
DTSTART;VALUE=DATE:20261004
DTEND;VALUE=DATE:20261005
DTSTAMP:20260425T000805
CREATED:20260102T093322Z
LAST-MODIFIED:20260413T083532Z
UID:7102-1791072000-1791158399@habersatter-reisen.com
SUMMARY:Wendelstein Wandertag
DESCRIPTION:Programm:  \nDer Wendelstein gilt als eine der schönsten Bergregionen der Bayerischen Alpen. Umgeben von beeindruckenden Gipfeln und weiten Ausblicken bietet der markante Aussichtsberg ideale Voraussetzungen für einen Wandertag. Gut ausgebaute Wege laden zu Spaziergängen oder gemütlichen Wanderungen ein\, während zahlreiche Aussichtspunkte eindrucksvolle Panorama­blicke auf das Alpenvorland und die umliegende Bergwelt eröff­nen. An der Bergstation gibt es einen Gipfel- und Panoramaweg\, ein Spielgelände\, sowie eine Hütte zur gemütlichen Einkehr und die Wendelsteinhöhle. \n Anreise morgens aus dem Ennstal. Danach fah­ren Sie mit der Seilbahn zur Bergstation. Der Tag steht Ihnen zur freien Verfügung. \nPreis: € 99\,- pro Person
URL:https://habersatter-reisen.com/reisen/wendelstein-wandertag/
ATTACH;FMTTYPE=image/jpeg:https://habersatter-reisen.com/wp-content/uploads/2026/01/AdobeStock_428515216_C-Andreas-Voelkel1Wirestock-Wendelstein.jpeg
END:VEVENT
BEGIN:VEVENT
DTSTART;VALUE=DATE:20261014
DTEND;VALUE=DATE:20261019
DTSTAMP:20260425T000805
CREATED:20260102T090933Z
LAST-MODIFIED:20260413T083718Z
UID:7095-1791936000-1792367999@habersatter-reisen.com
SUMMARY:Herbsttage in Izola
DESCRIPTION:Im Herbst zeigt sich Izola von seiner besonders stimmungsvollen Seite. Das charmante Küstenstädtchen an der slowenischen Adriaküste lädt mit mildem Klima\, angenehmer Ruhe und mediterranem Flair zu entspannten Urlaubstagen ein. Die engen Gassen der Altstadt\, der kleine Hafen und die Promenade lassen sich jetzt in aller Ruhe erkunden\, während Cafés und Restaurants regionale Spezialitäten der Saison servieren. Spaziergänge entlang der Küste\, der Blick auf das ruhige Meer und das warme Licht der Herbstsonne schaffen eine ganz besondere Atmosphäre.  \nTag 1: Anreise aus dem Ennstal bis nach Izola \nTag 2-4: Diese Tage stehen Ihnen zur freien Verfügung. \nTag 5: Gemütliche Heimreise. \nLeistungen\n> Busfahrt\n> Willkommensgetränk\n> 4x Übernachtung + Halbpension\n> Eintritt ins Hallenbad + Sauna \nPreis: € 389\,- pro Person \n            € 105\,- p.P EZZ
URL:https://habersatter-reisen.com/reisen/izola/
ATTACH;FMTTYPE=image/jpeg:https://habersatter-reisen.com/wp-content/uploads/2026/01/AdobeStock_449630970_C-marcin-jucha-Izola-Slowenien.jpeg
END:VEVENT
BEGIN:VEVENT
DTSTART;VALUE=DATE:20261020
DTEND;VALUE=DATE:20261022
DTSTAMP:20260425T000805
CREATED:20251219T081547Z
LAST-MODIFIED:20260413T083846Z
UID:7031-1792454400-1792627199@habersatter-reisen.com
SUMMARY:Fahrt Ins Blaue
DESCRIPTION:Liebe Reisefreunde\, \nes ist wieder einmal soweit und wir freuen uns\, dass auch Sie dabei sind! \nWie es sich für eine richtige „Fahrt ins Blaue“ gehört\, starten wir erst einmal in Richtung\n„Nirgendwo“. \nBitte einen gültigen Personalausweis oder Reisepass mitnehmen! \nSchönes Wetter wäre durchaus erwünscht für unsere Überraschungsfahrt.\nFalls uns das liebe Wetter jedoch einen Strich durch die Rechnung machen sollte\, machen wir einfach mit Regenschirm und guter Laune das Beste daraus! \nLassen Sie sich von unserer „Fahrt ins Blaue“ überraschen\, es wird einiges geboten und wir haben \nuns mit der Organisation wieder viel Mühe gegeben.\nBei Lust und Laune könnt ihr euch auch auf einen Sprung ins Wasser freuen. Somit bitte das Badezeug mitnehmen.  \nWir hoffen\, Ihr habt viel Spaß! \nNicht zu vergessen! – Gute Laune mitbringen! \nPreis: € 199\,— p.P. im Doppelzimmer\n€ 42\,– p.P. Einzelzimmerzuschlag \nInkludierte Leistungen\n*Busfahrt & alle Gebühren\n*Übernachtung mit Halbpension\n*Reisebegleitung\n*Verlosung von schönen Preisen\n*Livemusik
URL:https://habersatter-reisen.com/reisen/fahrt-ins-blaue-2/
ATTACH;FMTTYPE=image/jpeg:https://habersatter-reisen.com/wp-content/uploads/2025/12/jplenio-field-5236879-1.jpg
END:VEVENT
BEGIN:VEVENT
DTSTART;VALUE=DATE:20261020
DTEND;VALUE=DATE:20261023
DTSTAMP:20260425T000805
CREATED:20251219T081426Z
LAST-MODIFIED:20260413T083825Z
UID:7029-1792454400-1792713599@habersatter-reisen.com
SUMMARY:Fahrt Ins Blaue
DESCRIPTION:Liebe Reisefreunde\, \nes ist wieder einmal soweit und wir freuen uns\, dass auch Sie dabei sind! \nWie es sich für eine richtige „Fahrt ins Blaue“ gehört\, starten wir erst einmal in Richtung\n„Nirgendwo“. \nBitte einen gültigen Personalausweis oder Reisepass mitnehmen! \nSchönes Wetter wäre durchaus erwünscht für unsere Überraschungsfahrt.\nFalls uns das liebe Wetter jedoch einen Strich durch die Rechnung machen sollte\, machen wir einfach mit Regenschirm und guter Laune das Beste daraus! \nLassen Sie sich von unserer „Fahrt ins Blaue“ überraschen\, es wird einiges geboten und wir haben \nuns mit der Organisation wieder viel Mühe gegeben.\nBei Lust und Laune könnt ihr euch auch auf einen Sprung ins Wasser freuen. Somit bitte das Badezeug mitnehmen.  \nWir hoffen\, Ihr habt viel Spaß! \nNicht zu vergessen! – Gute Laune mitbringen! \nPreis: € 289\,— p.P. im Doppelzimmer\n€ 79\,– p.P. Einzelzimmerzuschlag \nInkludierte Leistungen\n*Busfahrt & alle Gebühren\n*Übernachtung mit Halbpension\n*Reisebegleitung\n*Verlosung von schönen Preisen\n*Livemusik
URL:https://habersatter-reisen.com/reisen/fahrt-ins-blaue/
ATTACH;FMTTYPE=image/jpeg:https://habersatter-reisen.com/wp-content/uploads/2025/12/jplenio-field-5236879-1.jpg
END:VEVENT
BEGIN:VEVENT
DTSTART;VALUE=DATE:20261025
DTEND;VALUE=DATE:20261026
DTSTAMP:20260425T000805
CREATED:20251125T083325Z
LAST-MODIFIED:20260413T084125Z
UID:6929-1792886400-1792972799@habersatter-reisen.com
SUMMARY:Käsefest - Maria Taferl
DESCRIPTION:Das Käsefest in Maria Taferl ist ein genussvoller Höhepunkt im niederösterreichischen Veranstaltungskalender. Vor der eindrucksvollen Kulisse des bekannten Wallfahrtsortes\, hoch über dem Donautal\, präsentieren Kleinkäsereien und Sennereien aus ganz Österreich ihre vielfältigen Käsespezialitäten – von mild bis würzig\, von cremig bis kräftig. Ergänzt wird das Angebot durch hochwertige Fleisch- und Wurstwaren\, frische Backwaren sowie liebevoll gefertigtes Kleinkunsthandwerk. \nRund 100 Marktstände\, aufgebaut wie ein großer Bauernmarkt\, ziehen sich entlang der Hauptstraße bis zur Basilika. Beim Flanieren und Verkosten genießen Besucher nicht nur regionale Köstlichkeiten\, sondern auch den traumhaften Panoramablick vom Kirchplatz über das Donautal. Musik und geselliges Beisammensein sorgen für eine stimmungsvolle Atmosphäre und machen das Käsefest zu einem Fest der Regionalität\, der Handwerkskunst und des Genusses. \n  \nFoto: © Käsehütte Maria Taferl
URL:https://habersatter-reisen.com/reisen/kaesefest-maria-taferl/
ATTACH;FMTTYPE=image/jpeg:https://habersatter-reisen.com/wp-content/uploads/2025/11/Kaesemarkt_2025_komp_Kaesehuette-Maria-Taferl.jpg
END:VEVENT
END:VCALENDAR